BEGIN:VCALENDAR
VERSION:2.0
PRODID:-//Battle-Scarred Outdoors - ECPv6.15.20//NONSGML v1.0//EN
CALSCALE:GREGORIAN
METHOD:PUBLISH
X-ORIGINAL-URL:https://battlescarredoutdoors.com
X-WR-CALDESC:Events for Battle-Scarred Outdoors
REFRESH-INTERVAL;VALUE=DURATION:PT1H
X-Robots-Tag:noindex
X-PUBLISHED-TTL:PT1H
BEGIN:VTIMEZONE
TZID:UTC
BEGIN:STANDARD
TZOFFSETFROM:+0000
TZOFFSETTO:+0000
TZNAME:UTC
DTSTART:20240101T000000
END:STANDARD
END:VTIMEZONE
BEGIN:VEVENT
DTSTART;TZID=UTC:20251011T080000
DTEND;TZID=UTC:20251011T170000
DTSTAMP:20260423T220905
CREATED:20241127T140618Z
LAST-MODIFIED:20241127T140618Z
UID:1042-1760169600-1760202000@battlescarredoutdoors.com
SUMMARY:3rd Annual Heroes Benefit Golf Tournament
DESCRIPTION:Come join us for our 3rd Annual Golf Tournament at Eagle Creek Golf Course\, in Moyock NC on Oct 11\, 2025. \nSponsorship opportunities available. \n$100/ golfer
URL:https://battlescarredoutdoors.com/event/3rd-annual-heroes-benefit-golf-tournament/
END:VEVENT
BEGIN:VEVENT
DTSTART;VALUE=DATE:20251024
DTEND;VALUE=DATE:20251027
DTSTAMP:20260423T220905
CREATED:20250305T185146Z
LAST-MODIFIED:20250305T185216Z
UID:1064-1761264000-1761523199@battlescarredoutdoors.com
SUMMARY:5th Annual First Responders Hunt
DESCRIPTION:We will bring out 6 First Responders for a deer hunt in Concord\, NC. Lodging\, meals\, and hunting gear/ stand are covered by BSO and local Sponsors.
URL:https://battlescarredoutdoors.com/event/5th-annual-first-responders-hunt/
END:VEVENT
END:VCALENDAR