BEGIN:VCALENDAR
VERSION:2.0
PRODID:-//Battle-Scarred Outdoors - ECPv6.15.20//NONSGML v1.0//EN
CALSCALE:GREGORIAN
METHOD:PUBLISH
X-ORIGINAL-URL:https://battlescarredoutdoors.com
X-WR-CALDESC:Events for Battle-Scarred Outdoors
REFRESH-INTERVAL;VALUE=DURATION:PT1H
X-Robots-Tag:noindex
X-PUBLISHED-TTL:PT1H
BEGIN:VTIMEZONE
TZID:UTC
BEGIN:STANDARD
TZOFFSETFROM:+0000
TZOFFSETTO:+0000
TZNAME:UTC
DTSTART:20240101T000000
END:STANDARD
END:VTIMEZONE
BEGIN:VEVENT
DTSTART;TZID=UTC:20250531T150000
DTEND;TZID=UTC:20250601T210000
DTSTAMP:20260424T030432
CREATED:20250305T003944Z
LAST-MODIFIED:20250305T003944Z
UID:1053-1748703600-1748811600@battlescarredoutdoors.com
SUMMARY:2nd Annual Heroes Benefit Fishing Tournament
DESCRIPTION:This is our 2nd Annual Fishing Tournament. Registration\, dinners\, and awards banquet will be at Frisco Woods Campground. \nWeigh Station at Pirates Cove Marina and Teach’s Lair Marina. \nSee our Tournament Page for more details. \nPlenty of room for team registration and Sponsorship Opportunities are still available.
URL:https://battlescarredoutdoors.com/event/2nd-annual-heroes-benefit-fishing-tournament/
END:VEVENT
END:VCALENDAR