BEGIN:VCALENDAR
VERSION:2.0
PRODID:-//Battle-Scarred Outdoors - ECPv6.15.20//NONSGML v1.0//EN
CALSCALE:GREGORIAN
METHOD:PUBLISH
X-WR-CALNAME:Battle-Scarred Outdoors
X-ORIGINAL-URL:https://battlescarredoutdoors.com
X-WR-CALDESC:Events for Battle-Scarred Outdoors
REFRESH-INTERVAL;VALUE=DURATION:PT1H
X-Robots-Tag:noindex
X-PUBLISHED-TTL:PT1H
BEGIN:VTIMEZONE
TZID:UTC
BEGIN:STANDARD
TZOFFSETFROM:+0000
TZOFFSETTO:+0000
TZNAME:UTC
DTSTART:20220101T000000
END:STANDARD
END:VTIMEZONE
BEGIN:VEVENT
DTSTART;VALUE=DATE:20231201
DTEND;VALUE=DATE:20231204
DTSTAMP:20260424T234416
CREATED:20230918T184149Z
LAST-MODIFIED:20230918T184149Z
UID:933-1701388800-1701647999@battlescarredoutdoors.com
SUMMARY:Heroes Deer Hunt 2023
DESCRIPTION:Deer hunt for 5 Heroes; Active Military\, Veterans\, and First Responders in Tarboro\, NC. Follow our Facebook page for the latest information.
URL:https://battlescarredoutdoors.com/event/heroes-deer-hunt-2023/
END:VEVENT
END:VCALENDAR