BEGIN:VCALENDAR
VERSION:2.0
PRODID:-//Battle-Scarred Outdoors - ECPv6.15.20//NONSGML v1.0//EN
CALSCALE:GREGORIAN
METHOD:PUBLISH
X-WR-CALNAME:Battle-Scarred Outdoors
X-ORIGINAL-URL:https://battlescarredoutdoors.com
X-WR-CALDESC:Events for Battle-Scarred Outdoors
REFRESH-INTERVAL;VALUE=DURATION:PT1H
X-Robots-Tag:noindex
X-PUBLISHED-TTL:PT1H
BEGIN:VTIMEZONE
TZID:UTC
BEGIN:STANDARD
TZOFFSETFROM:+0000
TZOFFSETTO:+0000
TZNAME:UTC
DTSTART:20240101T000000
END:STANDARD
END:VTIMEZONE
BEGIN:VEVENT
DTSTART;VALUE=DATE:20251205
DTEND;VALUE=DATE:20251208
DTSTAMP:20260423T220625
CREATED:20250305T190127Z
LAST-MODIFIED:20250305T190127Z
UID:1068-1764892800-1765151999@battlescarredoutdoors.com
SUMMARY:4th Annual Heroes Hunt at New Hope
DESCRIPTION:New Hope Hunting Club in Tarboro\, NC hosts BSO and 5 Heroes all weekend. The club along with BSO and local sponsors covers all expenses for lodging\, meals\, and hunting services.
URL:https://battlescarredoutdoors.com/event/4th-annual-heroes-hunt-at-new-hope/
END:VEVENT
BEGIN:VEVENT
DTSTART;VALUE=DATE:20260528
DTEND;VALUE=DATE:20260601
DTSTAMP:20260423T220625
CREATED:20251203T051249Z
LAST-MODIFIED:20251203T051249Z
UID:1223-1779926400-1780271999@battlescarredoutdoors.com
SUMMARY:3rd Annual Heroes Benefit Fishing Tournament
DESCRIPTION:This is our Annual Heroes Benefit Fishing Tournament with Earnhardt Outdoors. For more information\, checkout our Website.
URL:https://battlescarredoutdoors.com/event/3rd-annual-heroes-benefit-fishing-tournament/
LOCATION:Frisco Woods Campground\, 53124 North Carolina Hwy 12\, Frisco\, 27936\, United States
CATEGORIES:Fundraiser
ATTACH;FMTTYPE=image/jpeg:https://battlescarredoutdoors.com/wp-content/uploads/2025/12/BSO-Fishing-Tournament-Logo-scaled.jpg
END:VEVENT
END:VCALENDAR