BEGIN:VCALENDAR
VERSION:2.0
PRODID:-//Battle-Scarred Outdoors - ECPv6.15.20//NONSGML v1.0//EN
CALSCALE:GREGORIAN
METHOD:PUBLISH
X-WR-CALNAME:Battle-Scarred Outdoors
X-ORIGINAL-URL:https://battlescarredoutdoors.com
X-WR-CALDESC:Events for Battle-Scarred Outdoors
REFRESH-INTERVAL;VALUE=DURATION:PT1H
X-Robots-Tag:noindex
X-PUBLISHED-TTL:PT1H
BEGIN:VTIMEZONE
TZID:UTC
BEGIN:STANDARD
TZOFFSETFROM:+0000
TZOFFSETTO:+0000
TZNAME:UTC
DTSTART:20220101T000000
END:STANDARD
END:VTIMEZONE
BEGIN:VTIMEZONE
TZID:America/New_York
BEGIN:DAYLIGHT
TZOFFSETFROM:-0500
TZOFFSETTO:-0400
TZNAME:EDT
DTSTART:20210314T070000
END:DAYLIGHT
BEGIN:STANDARD
TZOFFSETFROM:-0400
TZOFFSETTO:-0500
TZNAME:EST
DTSTART:20211107T060000
END:STANDARD
BEGIN:DAYLIGHT
TZOFFSETFROM:-0500
TZOFFSETTO:-0400
TZNAME:EDT
DTSTART:20220313T070000
END:DAYLIGHT
BEGIN:STANDARD
TZOFFSETFROM:-0400
TZOFFSETTO:-0500
TZNAME:EST
DTSTART:20221106T060000
END:STANDARD
BEGIN:DAYLIGHT
TZOFFSETFROM:-0500
TZOFFSETTO:-0400
TZNAME:EDT
DTSTART:20230312T070000
END:DAYLIGHT
BEGIN:STANDARD
TZOFFSETFROM:-0400
TZOFFSETTO:-0500
TZNAME:EST
DTSTART:20231105T060000
END:STANDARD
END:VTIMEZONE
BEGIN:VEVENT
DTSTART;TZID=UTC:20241114T120000
DTEND;TZID=UTC:20241118T130000
DTSTAMP:20260424T152528
CREATED:20241030T225637Z
LAST-MODIFIED:20241030T232220Z
UID:1031-1731585600-1731934800@battlescarredoutdoors.com
SUMMARY:5th Annual Veterans in the Woods
DESCRIPTION:This is our largest Deer Hunt of the year. We bring out 10-14 Veterans for a long weekend. We cover all expenses in regards to lodging\, meals\, baiting\, and stand maintenance. The Veterans show up Thursday\, and stay through Sunday. They will get to participate in 4-6 hunts\, pending arrival time\, weather\, and weekend success. \nWe are actively looking sponsors to help offset expenses. Reach out to Rich Todaro if you would like to help. \n7046998073
URL:https://battlescarredoutdoors.com/event/5th-annual-veterans-in-the-woods/
END:VEVENT
BEGIN:VEVENT
DTSTART;VALUE=DATE:20240531
DTEND;VALUE=DATE:20240602
DTSTAMP:20260424T152528
CREATED:20230918T183729Z
LAST-MODIFIED:20230918T184335Z
UID:931-1717113600-1717286399@battlescarredoutdoors.com
SUMMARY:2024 OBX Fishing Tournament
DESCRIPTION:This will be our Inaugural Fishing tournament based in Hatteras\, NC. Follow our tournament page for all of the latest information. \nregistration and dinner  May 31 \ntournament/ awards June 1
URL:https://battlescarredoutdoors.com/event/2024-obx-fishing-tournament/
END:VEVENT
BEGIN:VEVENT
DTSTART;VALUE=DATE:20240427
DTEND;VALUE=DATE:20240428
DTSTAMP:20260424T152528
CREATED:20230918T183505Z
LAST-MODIFIED:20230918T183505Z
UID:929-1714176000-1714262399@battlescarredoutdoors.com
SUMMARY:2024 Golf Tournament
DESCRIPTION:This will be the 2nd Annual Golf Tournament. Follow us for the latest information.
URL:https://battlescarredoutdoors.com/event/2024-golf-tournament/
END:VEVENT
BEGIN:VEVENT
DTSTART;VALUE=DATE:20240209
DTEND;VALUE=DATE:20240211
DTSTAMP:20260424T152528
CREATED:20230918T182816Z
LAST-MODIFIED:20230918T182816Z
UID:925-1707436800-1707609599@battlescarredoutdoors.com
SUMMARY:Veterans Duck Hunt 2024
DESCRIPTION:Veterans Duck hunt in the Currituck Sound of North Carolina. Follow us on Facebook for the latest information this hunt.
URL:https://battlescarredoutdoors.com/event/veterans-duck-hunt-2024/
END:VEVENT
BEGIN:VEVENT
DTSTART;VALUE=DATE:20231201
DTEND;VALUE=DATE:20231204
DTSTAMP:20260424T152528
CREATED:20230918T184149Z
LAST-MODIFIED:20230918T184149Z
UID:933-1701388800-1701647999@battlescarredoutdoors.com
SUMMARY:Heroes Deer Hunt 2023
DESCRIPTION:Deer hunt for 5 Heroes; Active Military\, Veterans\, and First Responders in Tarboro\, NC. Follow our Facebook page for the latest information.
URL:https://battlescarredoutdoors.com/event/heroes-deer-hunt-2023/
END:VEVENT
BEGIN:VEVENT
DTSTART;VALUE=DATE:20231116
DTEND;VALUE=DATE:20231120
DTSTAMP:20260424T152528
CREATED:20230918T182636Z
LAST-MODIFIED:20230918T182934Z
UID:923-1700092800-1700438399@battlescarredoutdoors.com
SUMMARY:Veteran Deer Hunt 2023
DESCRIPTION:The Veteran Hunt is for 10 Active Duty Military and Veterans. Hunt location is Concord\, NC. See Facebook for the latest information on the hunt.
URL:https://battlescarredoutdoors.com/event/veteran-deerhunt-2023/
END:VEVENT
BEGIN:VEVENT
DTSTART;VALUE=DATE:20231013
DTEND;VALUE=DATE:20231016
DTSTAMP:20260424T152528
CREATED:20230918T182440Z
LAST-MODIFIED:20230918T183037Z
UID:921-1697155200-1697414399@battlescarredoutdoors.com
SUMMARY:First Responders Deer Hunt 2023
DESCRIPTION:The First Responders Hunt is for 10 First Responders to deer hunt in Concord\, NC
URL:https://battlescarredoutdoors.com/event/first-responders-deerhunt2023/
END:VEVENT
BEGIN:VEVENT
DTSTART;TZID=America/New_York:20220304T080000
DTEND;TZID=America/New_York:20220306T170000
DTSTAMP:20260424T152528
CREATED:20220201T160826Z
LAST-MODIFIED:20220201T161043Z
UID:868-1646380800-1646586000@battlescarredoutdoors.com
SUMMARY:Dixie Deer Classic
DESCRIPTION:Battle Scarred Outdoors will be at the 41st Annual Dixie Deer Classic in Raleigh\, NC. Be sure to stop by to Booth K5 and meet us while you are in the area. We’ll have all of our merchandise on hand and more surprises!
URL:https://battlescarredoutdoors.com/event/dixie-deer-classic/
LOCATION:NC State Fairgrounds  | 1025 Blue Ridge Road  |\, Raleigh\, NC\, 27607\, United States
CATEGORIES:Hunting Shows
ATTACH;FMTTYPE=image/jpeg:https://battlescarredoutdoors.com/wp-content/uploads/2022/02/BSO-Cover.jpg
END:VEVENT
END:VCALENDAR