BEGIN:VCALENDAR
VERSION:2.0
PRODID:-//Battle-Scarred Outdoors - ECPv6.15.20//NONSGML v1.0//EN
CALSCALE:GREGORIAN
METHOD:PUBLISH
X-ORIGINAL-URL:https://battlescarredoutdoors.com
X-WR-CALDESC:Events for Battle-Scarred Outdoors
REFRESH-INTERVAL;VALUE=DURATION:PT1H
X-Robots-Tag:noindex
X-PUBLISHED-TTL:PT1H
BEGIN:VTIMEZONE
TZID:UTC
BEGIN:STANDARD
TZOFFSETFROM:+0000
TZOFFSETTO:+0000
TZNAME:UTC
DTSTART:20240101T000000
END:STANDARD
END:VTIMEZONE
BEGIN:VEVENT
DTSTART;VALUE=DATE:20251119
DTEND;VALUE=DATE:20251124
DTSTAMP:20260423T220443
CREATED:20250305T185904Z
LAST-MODIFIED:20250305T185904Z
UID:1066-1763510400-1763942399@battlescarredoutdoors.com
SUMMARY:6th Annual Veterans in the Woods Hunt
DESCRIPTION:We generally bring out 10-12 Veterans for a long weekend of deer hunting. Lodging\, Hunting\, amd meals are covered by BSO and local sponsors. \nBased on the feedback of the last 5 years\, the most impactful part of the weekend is the nights spent around the fire pit sharing war stories.
URL:https://battlescarredoutdoors.com/event/6th-annual-veterans-in-the-woods-hunt/
END:VEVENT
END:VCALENDAR