BEGIN:VCALENDAR
VERSION:2.0
PRODID:-//Battle-Scarred Outdoors - ECPv6.15.20//NONSGML v1.0//EN
CALSCALE:GREGORIAN
METHOD:PUBLISH
X-ORIGINAL-URL:https://battlescarredoutdoors.com
X-WR-CALDESC:Events for Battle-Scarred Outdoors
REFRESH-INTERVAL;VALUE=DURATION:PT1H
X-Robots-Tag:noindex
X-PUBLISHED-TTL:PT1H
BEGIN:VTIMEZONE
TZID:UTC
BEGIN:STANDARD
TZOFFSETFROM:+0000
TZOFFSETTO:+0000
TZNAME:UTC
DTSTART:20230101T000000
END:STANDARD
END:VTIMEZONE
BEGIN:VEVENT
DTSTART;TZID=UTC:20241114T120000
DTEND;TZID=UTC:20241118T130000
DTSTAMP:20260424T121741
CREATED:20241030T225637Z
LAST-MODIFIED:20241030T232220Z
UID:1031-1731585600-1731934800@battlescarredoutdoors.com
SUMMARY:5th Annual Veterans in the Woods
DESCRIPTION:This is our largest Deer Hunt of the year. We bring out 10-14 Veterans for a long weekend. We cover all expenses in regards to lodging\, meals\, baiting\, and stand maintenance. The Veterans show up Thursday\, and stay through Sunday. They will get to participate in 4-6 hunts\, pending arrival time\, weather\, and weekend success. \nWe are actively looking sponsors to help offset expenses. Reach out to Rich Todaro if you would like to help. \n7046998073
URL:https://battlescarredoutdoors.com/event/5th-annual-veterans-in-the-woods/
END:VEVENT
END:VCALENDAR